BEGIN:VCALENDAR
VERSION:2.0
PRODID:-//Le Donne della Birra - ECPv6.15.19//NONSGML v1.0//EN
CALSCALE:GREGORIAN
METHOD:PUBLISH
X-WR-CALNAME:Le Donne della Birra
X-ORIGINAL-URL:https://ledonnedellabirra.org
X-WR-CALDESC:Eventi per Le Donne della Birra
REFRESH-INTERVAL;VALUE=DURATION:PT1H
X-Robots-Tag:noindex
X-PUBLISHED-TTL:PT1H
BEGIN:VTIMEZONE
TZID:Europe/Rome
BEGIN:DAYLIGHT
TZOFFSETFROM:+0100
TZOFFSETTO:+0200
TZNAME:CEST
DTSTART:20220327T010000
END:DAYLIGHT
BEGIN:STANDARD
TZOFFSETFROM:+0200
TZOFFSETTO:+0100
TZNAME:CET
DTSTART:20221030T010000
END:STANDARD
BEGIN:DAYLIGHT
TZOFFSETFROM:+0100
TZOFFSETTO:+0200
TZNAME:CEST
DTSTART:20230326T010000
END:DAYLIGHT
BEGIN:STANDARD
TZOFFSETFROM:+0200
TZOFFSETTO:+0100
TZNAME:CET
DTSTART:20231029T010000
END:STANDARD
BEGIN:DAYLIGHT
TZOFFSETFROM:+0100
TZOFFSETTO:+0200
TZNAME:CEST
DTSTART:20240331T010000
END:DAYLIGHT
BEGIN:STANDARD
TZOFFSETFROM:+0200
TZOFFSETTO:+0100
TZNAME:CET
DTSTART:20241027T010000
END:STANDARD
BEGIN:DAYLIGHT
TZOFFSETFROM:+0100
TZOFFSETTO:+0200
TZNAME:CEST
DTSTART:20250330T010000
END:DAYLIGHT
BEGIN:STANDARD
TZOFFSETFROM:+0200
TZOFFSETTO:+0100
TZNAME:CET
DTSTART:20251026T010000
END:STANDARD
BEGIN:DAYLIGHT
TZOFFSETFROM:+0100
TZOFFSETTO:+0200
TZNAME:CEST
DTSTART:20260329T010000
END:DAYLIGHT
BEGIN:STANDARD
TZOFFSETFROM:+0200
TZOFFSETTO:+0100
TZNAME:CET
DTSTART:20261025T010000
END:STANDARD
END:VTIMEZONE
BEGIN:VEVENT
DTSTART;TZID=Europe/Rome:20251125T190000
DTEND;TZID=Europe/Rome:20251125T200000
DTSTAMP:20260419T164433
CREATED:20251106T150158Z
LAST-MODIFIED:20251209T005657Z
UID:9962-1764097200-1764100800@ledonnedellabirra.org
SUMMARY:Sexy Pints al Personal Brewery
DESCRIPTION:SEXY PINTS non a caso il 25 novembre\, non a caso da Personal Brewery\, non a caso grazie alla collaborazione di due associate molto attive\, non a caso con la collaborazione di chi la violenza la vede tutti i giorni e non a caso per parlare di birra. \nE’ così che abbiamo voluto organizzare il nostro evento per celebrare la Giornata Mondiale contro la Violenza sulle Donne. \nDurante la serata interverrà anche Casa Antigone\, struttura della Fondazione Somaschi Onlus che da anni accoglie\, protegge e supporta donne vittime di violenza o sfruttamento. Casa Antigone non è solo un rifugio: è uno spazio in cui ricostruire dignità\, autonomia\, progetto di vita. In particolare\, offre accoglienza alle donne adulte sole\, mette a disposizione supporto psicologico e legale\, percorsi di empowerment e svolge azione concreta nel contesto del contrasto alla violenza di genere.\nLa presenza di Casa Antigone arricchirà l’evento di una dimensione sociale e civile\, collegando il tema della rappresentazione femminile nel settore birrario con quello più ampio del rispetto\, della valorizzazione e della dignità delle donne in tutti gli ambienti professionali e pubblici. \nIl programma dell’evento è curato da Michela Cimatoribus e Giuliana Valcavi. \n– Ore 19:00 – Presentazione della ricerca sulla comunicazione della birra e dibattito.\n– Ore 20:00 – Degustazione di birre “al femminile”\, in cui produttori\, birraie e professioniste del settore porteranno la propria visione e il proprio talento. \nLa partecipazione è aperta a tutti. È gradita una donazione libera che andrà a sostenere la campagna #PinteConsapevoli\, finalizzata a promuovere una cultura birraria attenta\, rispettosa e inclusiva. \nPerché partecipare\nPartecipare a “Sexy Pints” significa fare di più di una semplice degustazione: in una data importante come quella del 25 novembre\, significa riflettere su come il linguaggio\, l’immagine\, la comunicazione del settore influenzino percezione\, ruoli e opportunità. Significa supportare una visione in cui la birra diventa anche veicolo di cultura\, lavoro\, inclusione. Significa brindare non solo al gusto\, ma a un futuro più equo. \nVi aspettiamo per un appuntamento di cultura\, riflessione e degustazione. Insieme\, possiamo promuovere il cambiamento. \nClicca per conoscere i dettagli della campagnaPartecipa anche tu al nostro evento a Milano!Scegli di esserci e di contribuire con una donazione. Il tuo contributo per noi sarà molto prezioso per i progetti dedicati a #PinteConsapevoli \nDona ora
URL:https://ledonnedellabirra.org/evento/sexy-pints-al-personal-brewery/
LOCATION:Personal Brewery\, via Rombon\, 97\, Milano\, MI\, 20134\, Italia
CATEGORIES:Convegni e conferenze,Degustazioni e cene,Raccolte fondi occasionali,Ricorrenze
ATTACH;FMTTYPE=image/jpeg:https://ledonnedellabirra.org/wp-content/uploads/2025/11/Sexy-Pints-evento.jpg
ORGANIZER;CN="Le Donne della Birra APS":MAILTO:info@ledonnedellabirra.it
END:VEVENT
BEGIN:VEVENT
DTSTART;TZID=Europe/Rome:20241128T183000
DTEND;TZID=Europe/Rome:20241128T200000
DTSTAMP:20260419T164433
CREATED:20241108T001745Z
LAST-MODIFIED:20241129T053353Z
UID:8576-1732818600-1732824000@ledonnedellabirra.org
SUMMARY:Sorsi diVersi in libreria
DESCRIPTION:ritorna in chiusura d’anno il nostro evento più gettonatoAssieme a MAMI’ una tappa di Sorsi diVersi! \nTi aspettiamo giovedì 28 novembre a partire dalle 18.30 per assaporare il piacere di tre ottime birre abbinate ad altrettanti brani di scrittrici donne! \nModera l’evento la nostra Giuliana Valcavi\, affiancata da Emanuele Bonati di Mamì che si alternerà a Michela nella descrizione delle birre proposte e da Chiara Basellini nell’interpretazione dei testi. \nNon conosci ancora Mamì? Leggi l’intervista. \n▪  3 birre descritte e degustate da Michela Cimatoribus. Abbinamenti commentati da Emanuele BonatiTriple\, Blanche e Ipa in degustazione guidata \n▪  3 letture al femmnile interpretate da Chiara BaselliniVirginia Wolf\, Anita Desai e Chandra Livia Candiani\, le letture proposte. \nFAQ – unadinoiFederica Felice2024-11-29T06:27:26+01:00FAQ – unadinoiLo sai che cosa sono gli eventi di raccolta fondi? \nAnche Le Donne della Birra come tante associazioni programma campagne di sensibilizzazione per portare avanti obiettivi ritenuti importanti. #unadinoi è una di queste campagne: l’impegno per sostenere una civiltà etica e rispettosa della donna\, l’impegno contro la violenza di genere (ne abbiamo parlato nel blog). Per raccogliere le somme destinate a concretizzare l’impegno assunto con le campagne\, realizziamo diversi eventi e quando questi eventi sono pubblici\, occasionali\, con offerta di beni (come i nostri gadget) o servizi (come le degustazioni guidate di birre)\, ecco che questi eventi sono “eventi di raccolta fondi”. Le somme che tu versi per/in queste occasioni ci servirà per finanziare gli obiettivi che diffondiamo con le nostre campagne.Per questo motivo\, ti chiediamo di non chiederci la restituzione di quello che verserai\, perchè ciò che versi non è un pagamento per il servizio che stiamo erogando\, ma il tuo libero contributo a favore della raccolta fondi. Se per qualche motivo non potessimo realizzare l’evento\, ciò che veramente devi tenere d’occhio è che entro la data indicata vengano portati avanti gli obiettivi della raccolta fondi. E ti faremo sapere in quali altre date potrai raggiungerci. \nPerchè non restituiamo il denaro versato in anticipo? \nSi tratta di importi spesso molto piccoli che a te non fanno la differenza\, ma per gli obiettivi della raccolta fondi vogliono dire tantissimo. Quindi prima di decidere se partecipare ai nostri eventi\, chiediti se vuoi supportare la raccolta del periodo. Non avrebbe senso versare del denaro per qualcosa in cui non credi fino in fondo e poi richiederne la restituzione prima ancora che sia stata realizzata\, vero? \nNon puoi supportare gli obiettivi delle nostre raccolte fondi? \nSe non vuoi supportare l’obiettivo delle raccolte fondi\, e non riesci a prendere parte ai nostri eventi di raccolta fondi\, non preoccuparti: per noi sei comunque una risorsa importante perchè ci hai conosciuto e perchè speriamo che nel tempo questa conoscenza si trasformi in interesse e poi passione. In quel momento se vorrai potrai fare un passo più importante ovvero diventare nostra socia/o e partecipare non solo agli eventi di raccolta fondi (che contribuirai a costruire partecipando alle decisioni durante le Assemblee Soci)\, ma anche agli eventi esclusivi che organizziamo solo per i nostri associati. \nChe bello! Voglio essere socia/oGrazie di essere “atterrata/o” dalle Donne della Birra!!!
URL:https://ledonnedellabirra.org/evento/sorsi-diversi-in-libreria/
LOCATION:Mamì Libri&Birra\, via Temistocle Calzecchi\, 2\, Milano\, MI\, 20133\, Italy
CATEGORIES:Degustazioni e cene,Raccolte fondi occasionali
ATTACH;FMTTYPE=image/png:https://ledonnedellabirra.org/wp-content/uploads/2024/11/EventoFB.png
ORGANIZER;CN="Le Donne della Birra APS":MAILTO:info@ledonnedellabirra.it
END:VEVENT
BEGIN:VEVENT
DTSTART;TZID=Europe/Rome:20240428T170000
DTEND;TZID=Europe/Rome:20240428T190000
DTSTAMP:20260419T164433
CREATED:20240422T123757Z
LAST-MODIFIED:20240422T175901Z
UID:8173-1714323600-1714330800@ledonnedellabirra.org
SUMMARY:Hops Experience
DESCRIPTION:Anche il prossimo 28 aprile ci sarà modo di sostenere la nostra raccolta fondi per la campagna #UNADINOI.E’ in arrivo uno speciale laboratorio sui luppoli americani dal titolo HOPS EXPERIENCE\, organizzato dai soci Stefano Foglio di Personal Brewery e Michela Cimatoribus di The Good Beer Society. \nSarà coinvolta in live streaming anche la socia Michela Nati de Il giardino delle luppole che ci racconterà del mercato dei luppoli coltivati in Italia. \nAvremo poi la possibilità di assaggiare insieme una serie di birre che abbiamo ricevuto dalla US Brewers Association\, alcune delle quali non disponibili sul mercato italiano. \nStefano farà un intervento tecnico sui luppoli americani e in collegamento live streaming avremo Lotte Peplow\, responsabile per l’Europa della Brewers Association. \nCosto dell’evento: 25€. \nLe iscrizioni sono già aperte e sono aperte a tutti. \nAbbiamo 15 posti\, quindi fatevi avanti per garantirvi la partecipazione! \nPotete prenotarvi e pagare in loco oppure prenotarvi e pagare qui. \nTutti i fondi raccolti andranno a finanziare la nostra raccolta fondi a favore delle iniziative che organizzeremo come denuncia alla violenza sulle donne e di cui vi abbiamo parlato a novembre 2023
URL:https://ledonnedellabirra.org/evento/hops-experience/
LOCATION:Personal Brewery\, via Rombon\, 97\, Milano\, MI\, 20134\, Italia
CATEGORIES:Degustazioni e cene,Raccolte fondi occasionali
ATTACH;FMTTYPE=image/jpeg:https://ledonnedellabirra.org/wp-content/uploads/2024/04/Hops_2804web.jpg
END:VEVENT
BEGIN:VEVENT
DTSTART;TZID=Europe/Rome:20240420T171500
DTEND;TZID=Europe/Rome:20240420T193000
DTSTAMP:20260419T164433
CREATED:20240409T142834Z
LAST-MODIFIED:20240416T142514Z
UID:8138-1713633300-1713641400@ledonnedellabirra.org
SUMMARY:Happy Birthday DDB
DESCRIPTION:La festa per il compleanno dell’Associazione si svolgerà quest’anno il 20 aprile a Carate Brianza (MB) presso il brewpub di Birra Gaia del nostro socio Marco Vergani.\nIl mastro birraio ci condurrà all’interno del birrificio per un giro guidato inframmezzato da degustazioni di birre e stuzzichini. E al termine\, ci siederemo a tavola per un’ultima birra con abbinamenti gastronomici. \nIl programma inizierà alle 17.00 con termine previsto alle ore 19.30. \nQuota di partecipazione: 30€\nData limite per iscriversi: 15 aprile. \nPer ulteriori informazioni puoi scriverci a comunicazione@ledonnedellabirra.it \nI proventi dell’evento andranno a contribuire alla raccolta fondi #UNADINOI\, prolungata fino a fine 2024. \nSe acquisti il ticket nel box qui sotto potrai pagare con Carta di credito attraverso circuito Paypal \nSe ti è più comodo puoi effettuare un bonifico bancario: IBAN: IT 88 B 03332 01401 000 000 415774 \nInoltre\, esclusivamente da smartphone\, puoi pagare con Satispay cliccando questo link: https://www.satispay.com/app/pay/shops/e2004a70-7fae-4722-98cf-41d8b2cd-b96e \nCausale: evento 20 aprile – raccolta fondi #unadinoi –\nINDICARE IL NUMERO DI PERSONE PER CUI SI PRENOTA
URL:https://ledonnedellabirra.org/evento/happy-birthday-ddb/
LOCATION:Birra Gaia\, Via Emilia Vergani\, 16\, Carate Brianza\, MB\, 20841\, Italia
CATEGORIES:Degustazioni e cene,Raccolte fondi occasionali,Ricorrenze
ATTACH;FMTTYPE=image/png:https://ledonnedellabirra.org/wp-content/uploads/2024/04/comple_Sito.png
END:VEVENT
BEGIN:VEVENT
DTSTART;TZID=Europe/Rome:20240308T183000
DTEND;TZID=Europe/Rome:20240308T210000
DTSTAMP:20260419T164433
CREATED:20240229T043720Z
LAST-MODIFIED:20240614T154140Z
UID:8049-1709922600-1709931600@ledonnedellabirra.org
SUMMARY:#UNADINOI Genova
DESCRIPTION:#UNADINOI Genova è la prima delle due iniziative organizzate grazie alla raccolta fondi #unadinoi e si svolgerà a Genova presso Hub Culinario Sapida  dalle 18.30 alle 21.\n\n\n\nLa nostra Presidente Elvira Ackermann e la consigliera Michela Cimatoribus presenteranno tutte le fasi della campagna #UNADINOI\, dalla sua nascita a settembre 2023 al perchè anche la nostra associazione ha deciso di affiancarsi ad altre reti per la tutela della donna.\n\n\n\nAvremo come ospite una referente del Centro Per Non Subire Violenza APS a raccontare le proprie attività\, ma anche a testimoniare con numeri e dati il problema della violenza di genere\n\n\n\nFiniremo con un momento culturale raccontando il ruolo della donna nella storia della birra\, curato dalla socia Michela Cimatoribus.\n\n\n\nNon mancherà il brindisi per celebrare questa ricorrenza in cui la donna è protagonista\, festeggiata in questo giorno di affrancamento e allo stesso tempo circondata da tante realtà che offrono supporto alle più deboli.\nUna birra al femminile per brindare alle Donne\, “Rosalia”\, una white Ipa realizzata con prodotti autoctoni di Taverna del Vara\, il birrificio della nostra socia Elisa Lavagnino. In abbinamento anche qualche sfiziosità gastronomica.\n\n\n\nRicordiamo che #UNADINOI Genova è finanziato con i fondi già raccolti con #UNADINOI ed nel contempo abbiamo voluto unirlo ad un’iniziativa di beneficenza: chiediamo per l’ingresso un importo simbolico di 10€\, ma ognuno può sostenere a modo suo anche con importi maggiori. E’ possibile fare beneficenza anche a prescindere dalla partecipazione all’evento versando il denaro qui sotto online e indicando nel campo nome “solo beneficenza” (così sapremo che non sarete presenti).\n\n\n\nE’ possibile prenotarsi e versare indicando il numero di persone e i nomi dei prenotati nel campo relativo.\n\n\n\nE’ inoltre possibile prenotarsi anche alla mail presidente@ledonnedellabirra.it oppure al telefono 393-9128484 e versare la somma in contanti all’ingresso.\n\n\n\nLe donazioni ricevute saranno devolute al Centro Per Non Subire Violenza APS di Unione Donne Italiane.
URL:https://ledonnedellabirra.org/evento/unadinoi-genova/
LOCATION:Hub Sapida Genova\, Sottopasso di Piazza Raffaele De Ferrari\, Genova\, Italia
CATEGORIES:Raccolte fondi occasionali,Ricorrenze
ATTACH;FMTTYPE=image/jpeg:https://ledonnedellabirra.org/wp-content/uploads/2024/03/Evento_FB.jpg
END:VEVENT
BEGIN:VEVENT
DTSTART;TZID=Europe/Rome:20240123T203000
DTEND;TZID=Europe/Rome:20240123T203000
DTSTAMP:20260419T164433
CREATED:20231130T153712Z
LAST-MODIFIED:20240417T211754Z
UID:7670-1706041800-1706041800@ledonnedellabirra.org
SUMMARY:Impara la birra da zero. Nuovo corso in partenza a gennaio
DESCRIPTION:Tra le attività in presenza che ci piace organizzare ci sono i tour e anche i corsi. Per inaugurare il nuovo anno ne abbiamo confezionato uno dedicato a chi vuole un’introduzione generale ma puntuale sulla birra. \nSi tratta di una collaborazione a tre\, anzi perfino cinque. Saremo assieme a The Good Beer Society\, il progetto di esperienze formative della nostra socia Michela Cimatoribus e a Birrificio Pagus con Gabriele e Stefano che non vedono l’ora di riempire il loro birrificio a Darfo B.T.\, con persone animate dalla voglia di conoscere e soprattutto degustare le loro birre. Ma anche altre due nostre associate saranno impegnate nella docenza e infatti per la seconda e per la quarta lezione troverete Alessia Simeone dal Birrificio  Sguaraunda e Gemma Cruciani dal Birrificio La Dama. \nEcco che quindi per 4 incontri di due ore l’uno\, tutti coloro che ancora pensano che esiste la birra doppio malto\, hanno la possibilità di saperne di più. Prima lezione subito in full immersion nella degustazione\, così da capirci qualcosa tra sentori di malto e luppolo e poi via via gli stili\, la produzione (con spiegazione del processo produttivo entrando direttamente nei luoghi di produzione) e l’abbinamento. \nDarfo Boario Terme è un comune situato nella bassa Val Camonica in provincia di Brescia. Un luogo dove\, anche con le giornate fredde invernali si ammirano scorci e luoghi dalla bellezza incredibile\, vi consigliamo di visitarne alcuni come il Parco di Luine o il Castello di Gorzone e i resti di quello di Montecchio e poi ci trovate anche le Terme\, insomma ce n’è per tutti i gusti….sicuramente anche quelli birrari\, visto che Pagus non mancherà di farci conoscere le sue birre (e non solo…) durante le lezioni di questo corso. \nSiete pronti? \nPrenota qui sotto entro il 31 dicembre in Early Bird. Dall’1 gennaio il prezzo salirà!\nI posti sono limitati a 20 persone \nMettiti il promemoria su queste date: 23/01 – 30/01 – 06/02 – 13/02 dalle 20.30 alle 22.30 \nDettagli corso\nAnche questo corso fa parte delle nostre iniziative di raccolta fondi. Come puoi leggere dalle notizie\, abbiamo avviato una raccolta fondi che ci servirà per finanziare il programma che intendiamo realizzare per la Giornata Internazionale della Donna del 2024 e per le altre iniziative che riguardano il nostro impegno contro la violenza sulle donne. Il tuo aiuto anche partecipando a questo corso sarà prezioso per poter realizzare queste importanti iniziative. Grazie
URL:https://ledonnedellabirra.org/evento/corso-pagus/
LOCATION:Birrificio Pagus\, Area Pagus - Via Nazionale\, 40\, Darfo Boario Terme\, BS\, 25047\, Italia
CATEGORIES:Corsi, workshop, webinar,Raccolte fondi occasionali,Visite a birrifici
ATTACH;FMTTYPE=image/png:https://ledonnedellabirra.org/wp-content/uploads/2023/11/1-1.png
END:VEVENT
BEGIN:VEVENT
DTSTART;TZID=Europe/Rome:20231202T113000
DTEND;TZID=Europe/Rome:20231202T153000
DTSTAMP:20260419T164433
CREATED:20231108T221002Z
LAST-MODIFIED:20231120T071706Z
UID:7419-1701516600-1701531000@ledonnedellabirra.org
SUMMARY:Natale con Brewfist
DESCRIPTION:Come ogni anno\, anche per il Natale 2023 ci stiamo organizzando per un evento dove poterci riunire assieme tra socie e soci. Ma non sarebbe veramente un evento natalizio se non aprissimo le porte anche ai non soci\, che da sempre seguono i nostri eventi e che in questa occasione hanno la possibilità di conoscerci più da vicino.\nAbbiamo quindi trasformato il consueto pranzo in una speciale degustazione di birre artigianali preceduta da una altrettanto interessante visita guidata presso uno dei principali e più premiati birrifici lombardi\, a Codogno. Quest’anno infatti vi portiamo da BREWFIST. \nSarà un’occasione per tutti\, soci e non soci\, per avvicinarsi alla produzione della birra (se ancora non la si conosce)\, ascoltando dai diretti proprietari la spiegazione di come si produce\, gli ingredienti\, le tecniche usate e soprattutto potremo conoscere da vicino che cosa anima il birrario\, qual è la sua filosofia e quali sono le aspettative future di questo birrificio che con i suoi 13 anni di attività ha collezionato diversi riconoscimenti. Ci ritroveremo a Terminal 1\, la tap-room del birrificio\, per la degustazione-pranzo: aperti esclusivamente per l’Associazione a partire dalle 12.45 potremo degustare e fare domande. \nCi piacerebbe che foste numerosi anche perchè questo sarà il primo degli eventi che fino a fine febbraio saranno dedicati alla raccolta fondi programmata per finanziare le iniziative dedicate alla Giornata Internazionale della Donna dell’8 marzo 2024\, quindi vogliamo farvi venire l’acquolina in bocca proponendovi un invitante menù preparato specificamente per abbinare le 4 birre che saranno proposte. Curiosi? \nConsulta birre e menùQualora desideriate una ricevuta (oltre alla notifica a termine della procedura) fatelo presente a Valentina Pè. Grazie. \nIl link di pagamento ticket permette di pagare tramite Paypal. Se volete pagare con bonifico o Satispay invece utilizzate questi riferimenti: \nIBAN: Q IT 88B 03332 01401 000 000 415774\nPaga con Satispay da qui
URL:https://ledonnedellabirra.org/evento/natale-con-brewfist/
LOCATION:Brewfist\, via Molinari\, 7\, Codogno\, Lodi\, 26845\, Italia
CATEGORIES:Raccolte fondi occasionali,Ricorrenze,Visite a birrifici
ATTACH;FMTTYPE=image/jpeg:https://ledonnedellabirra.org/wp-content/uploads/2023/11/Carosello-1.jpg
ORGANIZER;CN="Ambasciatrice Lombardia":MAILTO:lombardia@ledonnedellabirra.it
END:VEVENT
END:VCALENDAR