BEGIN:VCALENDAR
VERSION:2.0
PRODID:-//Le Donne della Birra - ECPv6.15.20//NONSGML v1.0//EN
CALSCALE:GREGORIAN
METHOD:PUBLISH
X-WR-CALNAME:Le Donne della Birra
X-ORIGINAL-URL:https://ledonnedellabirra.org
X-WR-CALDESC:Eventi per Le Donne della Birra
REFRESH-INTERVAL;VALUE=DURATION:PT1H
X-Robots-Tag:noindex
X-PUBLISHED-TTL:PT1H
BEGIN:VTIMEZONE
TZID:Europe/Rome
BEGIN:DAYLIGHT
TZOFFSETFROM:+0100
TZOFFSETTO:+0200
TZNAME:CEST
DTSTART:20180325T010000
END:DAYLIGHT
BEGIN:STANDARD
TZOFFSETFROM:+0200
TZOFFSETTO:+0100
TZNAME:CET
DTSTART:20181028T010000
END:STANDARD
BEGIN:DAYLIGHT
TZOFFSETFROM:+0100
TZOFFSETTO:+0200
TZNAME:CEST
DTSTART:20190331T010000
END:DAYLIGHT
BEGIN:STANDARD
TZOFFSETFROM:+0200
TZOFFSETTO:+0100
TZNAME:CET
DTSTART:20191027T010000
END:STANDARD
BEGIN:DAYLIGHT
TZOFFSETFROM:+0100
TZOFFSETTO:+0200
TZNAME:CEST
DTSTART:20200329T010000
END:DAYLIGHT
BEGIN:STANDARD
TZOFFSETFROM:+0200
TZOFFSETTO:+0100
TZNAME:CET
DTSTART:20201025T010000
END:STANDARD
BEGIN:DAYLIGHT
TZOFFSETFROM:+0100
TZOFFSETTO:+0200
TZNAME:CEST
DTSTART:20210328T010000
END:DAYLIGHT
BEGIN:STANDARD
TZOFFSETFROM:+0200
TZOFFSETTO:+0100
TZNAME:CET
DTSTART:20211031T010000
END:STANDARD
END:VTIMEZONE
BEGIN:VEVENT
DTSTART;TZID=Europe/Rome:20200423T183000
DTEND;TZID=Europe/Rome:20200423T190000
DTSTAMP:20260424T175251
CREATED:20200509T120618Z
LAST-MODIFIED:20200509T120618Z
UID:3194-1587666600-1587668400@ledonnedellabirra.org
SUMMARY:It's Beer tonight - Low Land Brewery
DESCRIPTION:con Chiara Rubinato beer sommelier
URL:https://ledonnedellabirra.org/evento/its-beer-tonight-low-land-brewery/
CATEGORIES:Virtual Meeting
END:VEVENT
BEGIN:VEVENT
DTSTART;TZID=Europe/Rome:20200422T183000
DTEND;TZID=Europe/Rome:20200422T190000
DTSTAMP:20260424T175251
CREATED:20200509T120039Z
LAST-MODIFIED:20200509T120039Z
UID:3189-1587580200-1587582000@ledonnedellabirra.org
SUMMARY:It's Beer Tonight Live - IBeer
DESCRIPTION:
URL:https://ledonnedellabirra.org/evento/its-beer-tonight-live-ibeer/
CATEGORIES:Virtual Meeting
END:VEVENT
BEGIN:VEVENT
DTSTART;TZID=Europe/Rome:20200421T183000
DTEND;TZID=Europe/Rome:20200421T190000
DTSTAMP:20260424T175251
CREATED:20200509T120453Z
LAST-MODIFIED:20200509T120453Z
UID:3192-1587493800-1587495600@ledonnedellabirra.org
SUMMARY:It's Beer Tonight - Hop Us Est!
DESCRIPTION:
URL:https://ledonnedellabirra.org/evento/its-beer-tonight-hop-us-est/
CATEGORIES:Virtual Meeting
END:VEVENT
BEGIN:VEVENT
DTSTART;TZID=Europe/Rome:20200418T183000
DTEND;TZID=Europe/Rome:20200418T190000
DTSTAMP:20260424T175251
CREATED:20200509T115926Z
LAST-MODIFIED:20200509T115926Z
UID:3187-1587234600-1587236400@ledonnedellabirra.org
SUMMARY:It's Beer Tonight Live - La Dama
DESCRIPTION:
URL:https://ledonnedellabirra.org/evento/its-beer-tonight-live-la-dama/
CATEGORIES:Virtual Meeting
END:VEVENT
BEGIN:VEVENT
DTSTART;TZID=Europe/Rome:20200417T183000
DTEND;TZID=Europe/Rome:20200417T193000
DTSTAMP:20260424T175251
CREATED:20200509T115738Z
LAST-MODIFIED:20200509T115738Z
UID:3185-1587148200-1587151800@ledonnedellabirra.org
SUMMARY:It's Beer tonight Live - Gravità Zero
DESCRIPTION:
URL:https://ledonnedellabirra.org/evento/its-beer-tonight-live-gravita-zero/
CATEGORIES:Degustazioni e cene
END:VEVENT
BEGIN:VEVENT
DTSTART;TZID=Europe/Rome:20200415T193000
DTEND;TZID=Europe/Rome:20200415T200000
DTSTAMP:20260424T175251
CREATED:20200509T115555Z
LAST-MODIFIED:20231022T205721Z
UID:3183-1586979000-1586980800@ledonnedellabirra.org
SUMMARY:It's Beer Tonight Live - Barba d'Oro
DESCRIPTION:
URL:https://ledonnedellabirra.org/evento/its-beer-tonight-live-barba-doro/
CATEGORIES:Virtual Meeting,Visite a birrifici
END:VEVENT
BEGIN:VEVENT
DTSTART;VALUE=DATE:20200302
DTEND;VALUE=DATE:20200316
DTSTAMP:20260424T175251
CREATED:20200229T172954Z
LAST-MODIFIED:20200229T172954Z
UID:3009-1583107200-1584316799@ledonnedellabirra.org
SUMMARY:8 marzo & friends - La Festa delle Donne della Birra
DESCRIPTION:La Festa delle Donne della Birra è l’appuntamento annuale che nell’arco delle prime due settimane di marzo accoglie e raccoglie tutti gli eventi che le nostre associate realizzano lungo lo stivale. \nClikka sul link per leggere quelle che abbiamo organizzato per quest’anno! \n\n8 marzo & friends
URL:https://ledonnedellabirra.org/evento/8-marzo-friends/
CATEGORIES:Convegni e conferenze,Degustazioni e cene,Visite a birrifici
END:VEVENT
BEGIN:VEVENT
DTSTART;TZID=Europe/Rome:20200222T160000
DTEND;TZID=Europe/Rome:20200222T173000
DTSTAMP:20260424T175251
CREATED:20200213T173506Z
LAST-MODIFIED:20231022T205831Z
UID:2960-1582387200-1582392600@ledonnedellabirra.org
SUMMARY:Le Degustazioni Birresche in Gravità Zero
DESCRIPTION:Entrare in un birrificio proprio con l’obiettivo di assistere o prendere parte alla cotta? \nEbbene si può e il prossimo 22 febbraio ce lo propone la nostra socia Irene Delleani e i suoi fratelli al Gravità Zero\, dove oltre ad insegnare tecnica\, storia e aneddoti della spumeggiante bevanda\, propone in assaggio alcune delle sue 8 birre… \nUn simpatico evento per conoscere una nuova realtà birraria che – dichiarano i titolari  «ha l’obiettivo di trasmettere ciò che abbiamo appreso fino ad ora: la birra è convivialità\, appartenenza e condivisione dei momenti più belli della vita. Il nostro desiderio è riuscire a farti appassionare come noi alla piacevolezza del momento presente così da condividere un’esperienza sensoriale unica e soprattutto completamente personale» \nAndate a leggere tutto su Facebook partendo dalla pagina del Birrificio Gravità Zero o dal loro sito internet.
URL:https://ledonnedellabirra.org/evento/le-degustazioni-birresche-in-gravita-zero/
CATEGORIES:Visite a birrifici
END:VEVENT
BEGIN:VEVENT
DTSTART;VALUE=DATE:20200215
DTEND;VALUE=DATE:20200219
DTSTAMP:20260424T175251
CREATED:20191013T172052Z
LAST-MODIFIED:20191013T172052Z
UID:5633-1581724800-1582070399@ledonnedellabirra.org
SUMMARY:Tutte al Beer&Food Attraction!!!!!!
DESCRIPTION:Beer & Food Attraction e i sensi delle donne \n\n  \n 
URL:https://ledonnedellabirra.org/evento/tutte-al-beerfood-attraction/
CATEGORIES:Fiere nazionali
END:VEVENT
BEGIN:VEVENT
DTSTART;VALUE=DATE:20200202
DTEND;VALUE=DATE:20200206
DTSTAMP:20260424T175251
CREATED:20191113T001143Z
LAST-MODIFIED:20191113T001143Z
UID:2705-1580601600-1580947199@ledonnedellabirra.org
SUMMARY:Hospitality
DESCRIPTION:Dal 2 al 5 febbraio 2020 saremo presenti alla Fiera HOSPITALITY di Riva del Garda. \nUn evento di cui trovate la news e il programma nella nostra home page. \n\nSaluti da Riva del Garda con la nostra consueta HOSPITALITY \n\n 
URL:https://ledonnedellabirra.org/evento/hospitality/
CATEGORIES:Fiere nazionali
END:VEVENT
BEGIN:VEVENT
DTSTART;VALUE=DATE:20200124
DTEND;VALUE=DATE:20200127
DTSTAMP:20260424T175251
CREATED:20191013T132436Z
LAST-MODIFIED:20231022T212137Z
UID:2449-1579824000-1580083199@ledonnedellabirra.org
SUMMARY:Forlì Beer Festival
DESCRIPTION:https://www.old.ledonnedellabirra.org/inizia-al-forli-beer-festival-la-campagna-adesioni-2020-💗/ \nLeggi le news in home page per saperne di più o collegati al sito della manifestazione www.sapeur.it
URL:https://ledonnedellabirra.org/evento/forli-beer-festival/
CATEGORIES:Beer festival
END:VEVENT
BEGIN:VEVENT
DTSTART;VALUE=DATE:20200110
DTEND;VALUE=DATE:20200113
DTSTAMP:20260424T175251
CREATED:20200108T174038Z
LAST-MODIFIED:20200108T174038Z
UID:5649-1578614400-1578873599@ledonnedellabirra.org
SUMMARY:Un piedino al Winter Critical Beer di Sestri Levante
DESCRIPTION:Come dicono gli organizzatori\, è facile bere birra ad agosto…..perchè si sa\, una bella e buona birra fresca ci riconcilia con le sudate e l’affanno estivo. \nMa appunto cosa c’è di più intrigante che scoprire belle e buone birre ad inizio anno\, magari sotto il vento freddo che soffia imperioso o il mare in burrasca?? \nLa cosa si fa curiosa che dite? \nLa nostra socia Elisa Lavagnino ci invita al Winter Critical Beer dove presenzierà con un proprio stand. Al suo fianco anche l’Associazione con Elvira Ackermann nella giornata di sabato. \nIl Riviera Critical Beer è ormai un appuntamento fisso per la Liguria e per la suggestiva Sestri Levante\, borgo di origini romane affacciato sul mare e nel cui Ex Convento saranno ospiti nomi molto noti nel panorama birrario. Questa versione invernale – winter appunto – è una piacevole sfida contro il termometro per continuare con spensierata leggerezza ad apprezzare le birre artigianali (ce ne saranno ben 60 da tutta Italia) in riva al mare.
URL:https://ledonnedellabirra.org/evento/un-piedino-al-winter-critical-beer-di-sestri-levante/
LOCATION:0f5fc428-b651-486f-899c-21553ea59c6e
CATEGORIES:Beer festival
END:VEVENT
BEGIN:VEVENT
DTSTART;TZID=Europe/Rome:20191227T200000
DTEND;TZID=Europe/Rome:20191227T233000
DTSTAMP:20260424T175251
CREATED:20191203T190546Z
LAST-MODIFIED:20191203T190546Z
UID:5646-1577476800-1577489400@ledonnedellabirra.org
SUMMARY:It's beer tonight in Florence - Christmas edition
DESCRIPTION:Ancora una ghiotta occasione per scoprire le birre delle socie dell’Associazione Le Donne della Birra. La Toscana ci ospita questa volta a Firenze\, splendida città d’arte\, storia\, cultura e anche ottimi cibi. \nL’Orto del Cigno è una graziosa pizzeria poco fuori il centro cittadino\, dove il prossimo 27 dicembre Elvira Ackermann ed Elisa Lavagnino presenteranno alcune birre accompagnate da un menù gustoso e goloso. Dall’antipasto al dolce ogni piatto sarà abbinato ad una birra\, quella che meglio si accosta ai sapori. E tra ingredienti come zucca\, tartufo e cioccolato\, coglieremo l’occasione per raccontare ai nostri ospiti come’è nata la nostra bella associazione e che cosa bolla in pentola per il 2020. \nVi aspettiamo in compagnia di Cristina Gori\, titolare del locale. \n			\n						Scarica il menù della serata
URL:https://ledonnedellabirra.org/evento/its-beer-tonight-in-toscana-christmas-edition/
CATEGORIES:Degustazioni e cene
END:VEVENT
BEGIN:VEVENT
DTSTART;TZID=Europe/Rome:20191213T210000
DTEND;TZID=Europe/Rome:20191213T230000
DTSTAMP:20260424T175251
CREATED:20191126T233844Z
LAST-MODIFIED:20191126T233844Z
UID:2756-1576270800-1576278000@ledonnedellabirra.org
SUMMARY:Birre con le palle
DESCRIPTION:
URL:https://ledonnedellabirra.org/evento/birre-con-le-palle/
CATEGORIES:Degustazioni e cene
END:VEVENT
BEGIN:VEVENT
DTSTART;VALUE=DATE:20191213
DTEND;VALUE=DATE:20191214
DTSTAMP:20260424T175251
CREATED:20191203T190920Z
LAST-MODIFIED:20191203T190920Z
UID:5647-1576195200-1576281599@ledonnedellabirra.org
SUMMARY:Il Quinto Quarto della Birra
DESCRIPTION:Non potete proprio mancare!!! \nElvira Ackermann ed Elisa Lavagnino si trasferiscono al A Rumènta di Genova\, dove in collaborazione con lo chef Marco hanno preparato una speciale proposta IT’S BEER TONIGHT che al piacere della buona birra aggiunge anche la cucina dello scarto con molte preparazioni realizzate proprio con gli ingredienti principali della birra! \n\nScarica il menù della serata
URL:https://ledonnedellabirra.org/evento/evento-dedicato-al-riciclo/
CATEGORIES:Degustazioni e cene
END:VEVENT
BEGIN:VEVENT
DTSTART;TZID=Europe/Rome:20191211T203000
DTEND;TZID=Europe/Rome:20191211T230000
DTSTAMP:20260424T175251
CREATED:20191126T233656Z
LAST-MODIFIED:20191126T233656Z
UID:2753-1576096200-1576105200@ledonnedellabirra.org
SUMMARY:Un Natale Artigianale
DESCRIPTION:
URL:https://ledonnedellabirra.org/evento/un-natale-artigianale/
CATEGORIES:Degustazioni e cene
END:VEVENT
BEGIN:VEVENT
DTSTART;TZID=Europe/Rome:20191127T193000
DTEND;TZID=Europe/Rome:20191127T193000
DTSTAMP:20260424T175251
CREATED:20191124T182448Z
LAST-MODIFIED:20231022T210402Z
UID:5645-1574883000-1574883000@ledonnedellabirra.org
SUMMARY:Le birre dalla Svezia
DESCRIPTION:https://www.old.ledonnedellabirra.org/le-publican-del-fvg-invitano/
URL:https://ledonnedellabirra.org/evento/le-birre-dalla-svezia/
CATEGORIES:Degustazioni e cene
END:VEVENT
BEGIN:VEVENT
DTSTART;TZID=Europe/Rome:20191127T180000
DTEND;TZID=Europe/Rome:20191127T180000
DTSTAMP:20260424T175251
CREATED:20191124T182156Z
LAST-MODIFIED:20191124T182156Z
UID:2733-1574877600-1574877600@ledonnedellabirra.org
SUMMARY:Birra & cioccolato
DESCRIPTION:https://www.old.ledonnedellabirra.org/le-publican-del-fvg-invitano/
URL:https://ledonnedellabirra.org/evento/birra-cioccolato/
LOCATION:contenuto
CATEGORIES:Degustazioni e cene
END:VEVENT
BEGIN:VEVENT
DTSTART;VALUE=DATE:20191126
DTEND;VALUE=DATE:20191127
DTSTAMP:20260424T175251
CREATED:20191015T235028Z
LAST-MODIFIED:20191015T235028Z
UID:5634-1574726400-1574812799@ledonnedellabirra.org
SUMMARY:To Beer or not to Beer\, il corso che non c'era!
DESCRIPTION:Corso di avvicinamento alla birra a Catania. Una collaborazione tra Sara Provenzano del Birrificio dell’Etna e Myda Scuola di cucina. Leggete la news direttamente dalla nostra home page: \n\nTempo di corsi!
URL:https://ledonnedellabirra.org/evento/to-beer-or-not-to-beer-il-corso-che-non-cera/
CATEGORIES:Corsi, workshop, webinar
END:VEVENT
BEGIN:VEVENT
DTSTART;TZID=Europe/Rome:20191122T200000
DTEND;TZID=Europe/Rome:20191122T233000
DTSTAMP:20260424T175251
CREATED:20191101T020646Z
LAST-MODIFIED:20231022T210319Z
UID:5642-1574452800-1574465400@ledonnedellabirra.org
SUMMARY:It's beer tonight in Toscana
DESCRIPTION:22 novembre \nEcco il link alla news: https://www.old.ledonnedellabirra.org/its-beer-tonight-va-in-appennino/
URL:https://ledonnedellabirra.org/evento/its-beer-tonight-in-toscana/
CATEGORIES:Degustazioni e cene
END:VEVENT
BEGIN:VEVENT
DTSTART;TZID=Europe/Rome:20191111T080000
DTEND;TZID=Europe/Rome:20191111T080000
DTSTAMP:20260424T175251
CREATED:20191015T235857Z
LAST-MODIFIED:20191015T235857Z
UID:5635-1573459200-1573459200@ledonnedellabirra.org
SUMMARY:Cultura birraria - corso avanzato
DESCRIPTION:Leggetevi la news direttamente dalla nostra bacheca! L’istruzione birraria da Nord a Sud!! 🤩 \nhttps://www.old.ledonnedellabirra.org/tempo-di-corsi/
URL:https://ledonnedellabirra.org/evento/cultura-birraria-corso-avanzato/
CATEGORIES:Corsi, workshop, webinar
END:VEVENT
BEGIN:VEVENT
DTSTART;TZID=Europe/Rome:20191110T180000
DTEND;TZID=Europe/Rome:20191110T190000
DTSTAMP:20260424T175251
CREATED:20191022T213201Z
LAST-MODIFIED:20231022T212151Z
UID:2545-1573408800-1573412400@ledonnedellabirra.org
SUMMARY:Aperitivo in Rosa - Pordenone Beer Show
DESCRIPTION:Last minute news: Aperitivo in Rosa al Pordenone Beer Show\, qualche altra chicca e Halloween
URL:https://ledonnedellabirra.org/evento/aperitivo-in-rosa-pordenone-beer-show/
CATEGORIES:Beer festival
END:VEVENT
BEGIN:VEVENT
DTSTART;VALUE=DATE:20191109
DTEND;VALUE=DATE:20191113
DTSTAMP:20260424T175251
CREATED:20191101T034506Z
LAST-MODIFIED:20231022T212201Z
UID:5643-1573257600-1573603199@ledonnedellabirra.org
SUMMARY:Il Bontà a Cremona
DESCRIPTION:http://www.ilbonta.it/schedule/ogni-birra-ha-la-sua-pizza-ogni-pizza-ha-la-sua-birraun-anno-dopo/ \nAccanto al workshop in partnership con Le Donne della Birra\, a Il Bontà Chiara Andreola propone un cooking show dedicato alla pizza! \nLeggi tutto sull’evento \nInoltre: \nIntervista di Massimo Prandi (Giornale della Birra) a Chiara Andreola \n 
URL:https://ledonnedellabirra.org/evento/il-bonta-a-cremona/
CATEGORIES:Corsi, workshop, webinar,Fiere nazionali
END:VEVENT
BEGIN:VEVENT
DTSTART;TZID=Europe/Rome:20191107T193000
DTEND;TZID=Europe/Rome:20191107T210000
DTSTAMP:20260424T175251
CREATED:20191105T123311Z
LAST-MODIFIED:20231022T210439Z
UID:5644-1573155000-1573160400@ledonnedellabirra.org
SUMMARY:Fatti di birra!!!!
DESCRIPTION:
URL:https://ledonnedellabirra.org/evento/fatti-di-birra/
CATEGORIES:Convegni e conferenze
END:VEVENT
BEGIN:VEVENT
DTSTART;TZID=Europe/Rome:20191031T080000
DTEND;TZID=Europe/Rome:20191031T170000
DTSTAMP:20260424T175251
CREATED:20191027T205645Z
LAST-MODIFIED:20191027T205645Z
UID:5641-1572508800-1572541200@ledonnedellabirra.org
SUMMARY:Serata da paura!
DESCRIPTION:Have a look on home page on Halloween in rosa news! 🧙🏻‍♀️
URL:https://ledonnedellabirra.org/evento/serata-da-paura/
CATEGORIES:Degustazioni e cene
END:VEVENT
BEGIN:VEVENT
DTSTART;VALUE=DATE:20191031
DTEND;VALUE=DATE:20191101
DTSTAMP:20260424T175251
CREATED:20191022T221051Z
LAST-MODIFIED:20191022T221051Z
UID:5639-1572480000-1572566399@ledonnedellabirra.org
SUMMARY:Halloween a Birra del Parco
DESCRIPTION:
URL:https://ledonnedellabirra.org/evento/halloween-a-birra-del-parco/
CATEGORIES:Degustazioni e cene,Visite a birrifici
END:VEVENT
BEGIN:VEVENT
DTSTART;VALUE=DATE:20191031
DTEND;VALUE=DATE:20191101
DTSTAMP:20260424T175251
CREATED:20191022T215817Z
LAST-MODIFIED:20191022T215817Z
UID:5637-1572480000-1572566399@ledonnedellabirra.org
SUMMARY:Halloween Party con Low Land Brewery
DESCRIPTION:
URL:https://ledonnedellabirra.org/evento/halloween-party-con-low-land-brewery/
CATEGORIES:Degustazioni e cene
END:VEVENT
BEGIN:VEVENT
DTSTART;VALUE=DATE:20191031
DTEND;VALUE=DATE:20191101
DTSTAMP:20260424T175251
CREATED:20191022T213936Z
LAST-MODIFIED:20191022T213936Z
UID:5636-1572480000-1572566399@ledonnedellabirra.org
SUMMARY:Halloween al Birrificio Barbadoro
DESCRIPTION:Venite a passare con noi la notte di Halloween con la nostra \n“PER TUTTI I SANTI” – pumpkin ale!\nLIMITED EDITION!!! \nE per rifocillarvi stufato “Wicked Witch Beer Stew” con pane fatto in casa con malto e zucca! (anche in versione veggy!!!) \nMENU’ FISSO!!!!! \nA nostra discrezione: chi arriva in costume (non fate i furbi\, non basta la maschera di Zorro del figlio) avrà uno sconto sulla prima birra!!! \nDOLCETTO&SCHERZETTO per i più piccoli!!!!
URL:https://ledonnedellabirra.org/evento/halloween-al-birrificio-barbadoro/
CATEGORIES:Degustazioni e cene
END:VEVENT
BEGIN:VEVENT
DTSTART;VALUE=DATE:20191026
DTEND;VALUE=DATE:20191028
DTSTAMP:20260424T175251
CREATED:20191013T223029Z
LAST-MODIFIED:20191013T223029Z
UID:2465-1572048000-1572220799@ledonnedellabirra.org
SUMMARY:Ein Prosit 2019
DESCRIPTION:L’evento EIN PROSIT dedicato all’enogastronomia giunge alla sua XXI edizione e da qualche anno ha aperto le porte anche alle birre. Quest’anno i tre birrifici presenti provengono tutti dal FVG\, fra essi Federica Felice con il Birrificio Cittavecchia nell’ambito dei laboratori di approfondimento presenterà una delle sue birre. More info: einprosit.org
URL:https://ledonnedellabirra.org/evento/ein-prosit-2019/
CATEGORIES:Degustazioni e cene
END:VEVENT
BEGIN:VEVENT
DTSTART;TZID=Europe/Rome:20191023T200000
DTEND;TZID=Europe/Rome:20191023T200000
DTSTAMP:20260424T175251
CREATED:20191004T034217Z
LAST-MODIFIED:20191004T034217Z
UID:5631-1571860800-1571860800@ledonnedellabirra.org
SUMMARY:It's beer tonight!
DESCRIPTION:Da una chat nascono belle idee?…Beh dalla chat di Whatsapp delle Donne della Birra è partita l’idea di incontrarsi periodicamente non solo per gli aggiornamenti sulle attività sociali\, ma anche e soprattutto per qualche calice di birra\, due chiacchiere in amicizia e il gossip di rito\, che a noi donne piace sempre parecchio 😄 \nSi parte con due incontri ad Est e ad Ovest del Nord Italia a cui sono invitate tutte le socie e… perché no\, anche le loro amiche e i maschietti\, ma solo se accompagnati da una socia…🤙🏻 \n \nL’Ambasciatrice Michela Cimatoribus invece vi attende il 23 ottobre presso Birra del Parco ad Abbiategrasso (MI) dove la socia Sara Pezzoni ci propone un’apericena misto coi suoi prodotti e 4 birre a scelta.\nPrenotazione obbligatoria: Whatsapp 3485241239 o via mail lombardia@ledonnedellabirra.it \nEuro 25 a persona\nMetti in agenda l’evento \n 
URL:https://ledonnedellabirra.org/evento/its-beer-tonight-2/
CATEGORIES:Degustazioni e cene
END:VEVENT
END:VCALENDAR